BEGIN:VCALENDAR
VERSION:2.0
PRODID:-//Alternatives for Healing - ECPv6.15.20//NONSGML v1.0//EN
CALSCALE:GREGORIAN
METHOD:PUBLISH
X-WR-CALNAME:Alternatives for Healing
X-ORIGINAL-URL:https://www.alternativesforhealing.com
X-WR-CALDESC:Events for Alternatives for Healing
REFRESH-INTERVAL;VALUE=DURATION:PT1H
X-Robots-Tag:noindex
X-PUBLISHED-TTL:PT1H
BEGIN:VTIMEZONE
TZID:America/Denver
BEGIN:DAYLIGHT
TZOFFSETFROM:-0700
TZOFFSETTO:-0600
TZNAME:MDT
DTSTART:20240310T090000
END:DAYLIGHT
BEGIN:STANDARD
TZOFFSETFROM:-0600
TZOFFSETTO:-0700
TZNAME:MST
DTSTART:20241103T080000
END:STANDARD
BEGIN:DAYLIGHT
TZOFFSETFROM:-0700
TZOFFSETTO:-0600
TZNAME:MDT
DTSTART:20250309T090000
END:DAYLIGHT
BEGIN:STANDARD
TZOFFSETFROM:-0600
TZOFFSETTO:-0700
TZNAME:MST
DTSTART:20251102T080000
END:STANDARD
BEGIN:DAYLIGHT
TZOFFSETFROM:-0700
TZOFFSETTO:-0600
TZNAME:MDT
DTSTART:20260308T090000
END:DAYLIGHT
BEGIN:STANDARD
TZOFFSETFROM:-0600
TZOFFSETTO:-0700
TZNAME:MST
DTSTART:20261101T080000
END:STANDARD
END:VTIMEZONE
BEGIN:VEVENT
DTSTART;VALUE=DATE:20250712
DTEND;VALUE=DATE:20250714
DTSTAMP:20260424T211353
CREATED:20240127T040333Z
LAST-MODIFIED:20250422T164049Z
UID:37396-1752278400-1752451199@www.alternativesforhealing.com
SUMMARY:Midsummer Holistic Expo
DESCRIPTION:2025 Midsummer Holistic Expo \nHosted by Therapeutic Thymes Magazine
URL:https://www.alternativesforhealing.com/event/midsummer-holistic-expo/
LOCATION:Lancaster Farm & Home Center\, Lancaster\, PA
ATTACH;FMTTYPE=image/png:https://www.alternativesforhealing.com/wp-content/uploads/2024/01/Expo-new-logo.png
END:VEVENT
END:VCALENDAR