BEGIN:VCALENDAR
VERSION:2.0
PRODID:-//Alternatives for Healing - ECPv6.15.20//NONSGML v1.0//EN
CALSCALE:GREGORIAN
METHOD:PUBLISH
X-WR-CALNAME:Alternatives for Healing
X-ORIGINAL-URL:https://www.alternativesforhealing.com
X-WR-CALDESC:Events for Alternatives for Healing
REFRESH-INTERVAL;VALUE=DURATION:PT1H
X-Robots-Tag:noindex
X-PUBLISHED-TTL:PT1H
BEGIN:VTIMEZONE
TZID:America/Denver
BEGIN:DAYLIGHT
TZOFFSETFROM:-0700
TZOFFSETTO:-0600
TZNAME:MDT
DTSTART:20240310T090000
END:DAYLIGHT
BEGIN:STANDARD
TZOFFSETFROM:-0600
TZOFFSETTO:-0700
TZNAME:MST
DTSTART:20241103T080000
END:STANDARD
BEGIN:DAYLIGHT
TZOFFSETFROM:-0700
TZOFFSETTO:-0600
TZNAME:MDT
DTSTART:20250309T090000
END:DAYLIGHT
BEGIN:STANDARD
TZOFFSETFROM:-0600
TZOFFSETTO:-0700
TZNAME:MST
DTSTART:20251102T080000
END:STANDARD
BEGIN:DAYLIGHT
TZOFFSETFROM:-0700
TZOFFSETTO:-0600
TZNAME:MDT
DTSTART:20260308T090000
END:DAYLIGHT
BEGIN:STANDARD
TZOFFSETFROM:-0600
TZOFFSETTO:-0700
TZNAME:MST
DTSTART:20261101T080000
END:STANDARD
END:VTIMEZONE
BEGIN:VEVENT
DTSTART;VALUE=DATE:20251023
DTEND;VALUE=DATE:20251026
DTSTAMP:20260424T162735
CREATED:20251011T020636Z
LAST-MODIFIED:20251011T022141Z
UID:41002-1761177600-1761436799@www.alternativesforhealing.com
SUMMARY:Beyond Aromatics 2025 Conference
DESCRIPTION:Join us for our Live event\, the World of Aromatherapy XII\, Beyond Aromatics VI Conference & Tradeshow\, October 23rd-25th\, 2025\, in Tampa\, Florida. \nThis conference is brought to you by the National Association for Holistic Aromatherapy. \n877-232-5255 \ninfo@naha.org
URL:https://www.alternativesforhealing.com/event/beyond-aromatics-2025-conference/
LOCATION:NY
ATTACH;FMTTYPE=image/webp:https://www.alternativesforhealing.com/wp-content/uploads/2025/10/l5875_25541_Trade-Journal-Logo-3.webp
END:VEVENT
END:VCALENDAR