BEGIN:VCALENDAR
VERSION:2.0
PRODID:-//Alternatives for Healing - ECPv6.15.20//NONSGML v1.0//EN
CALSCALE:GREGORIAN
METHOD:PUBLISH
X-ORIGINAL-URL:https://www.alternativesforhealing.com
X-WR-CALDESC:Events for Alternatives for Healing
REFRESH-INTERVAL;VALUE=DURATION:PT1H
X-Robots-Tag:noindex
X-PUBLISHED-TTL:PT1H
BEGIN:VTIMEZONE
TZID:America/Denver
BEGIN:DAYLIGHT
TZOFFSETFROM:-0700
TZOFFSETTO:-0600
TZNAME:MDT
DTSTART:20250309T090000
END:DAYLIGHT
BEGIN:STANDARD
TZOFFSETFROM:-0600
TZOFFSETTO:-0700
TZNAME:MST
DTSTART:20251102T080000
END:STANDARD
BEGIN:DAYLIGHT
TZOFFSETFROM:-0700
TZOFFSETTO:-0600
TZNAME:MDT
DTSTART:20260308T090000
END:DAYLIGHT
BEGIN:STANDARD
TZOFFSETFROM:-0600
TZOFFSETTO:-0700
TZNAME:MST
DTSTART:20261101T080000
END:STANDARD
BEGIN:DAYLIGHT
TZOFFSETFROM:-0700
TZOFFSETTO:-0600
TZNAME:MDT
DTSTART:20270314T090000
END:DAYLIGHT
BEGIN:STANDARD
TZOFFSETFROM:-0600
TZOFFSETTO:-0700
TZNAME:MST
DTSTART:20271107T080000
END:STANDARD
END:VTIMEZONE
BEGIN:VEVENT
DTSTART;VALUE=DATE:20260711
DTEND;VALUE=DATE:20260713
DTSTAMP:20260424T095054
CREATED:20260324T204409Z
LAST-MODIFIED:20260324T205025Z
UID:42766-1783728000-1783900799@www.alternativesforhealing.com
SUMMARY:Midsummer Holistic Expo
DESCRIPTION:2026 Midsummer Holistic Expo \nThe Midsummer Holistic Expo brings together the wellness community. Held at the Lancaster Farm & Home Center just outside the city each July\, we bring you readers\, crystals\, essential oils\, teas\, clothes\, herbs\, tarot cards\, artisan jewelry\, and more! So much more! \nInside & Outside … Rain or Shine … Service Animals Only \nHosted by Therapeutic Thymes Magazine
URL:https://www.alternativesforhealing.com/event/midsummer-holistic-expo-copy/
LOCATION:Lancaster Farm & Home Center\, Lancaster\, PA
ATTACH;FMTTYPE=image/png:https://www.alternativesforhealing.com/wp-content/uploads/2024/01/Expo-new-logo.png
END:VEVENT
END:VCALENDAR